BEGIN:VCALENDAR
VERSION:2.0
PRODID:-//NeighborWorks Boise - ECPv6.15.20//NONSGML v1.0//EN
CALSCALE:GREGORIAN
METHOD:PUBLISH
X-WR-CALNAME:NeighborWorks Boise
X-ORIGINAL-URL:https://nwboise.org
X-WR-CALDESC:Events for NeighborWorks Boise
REFRESH-INTERVAL;VALUE=DURATION:PT1H
X-Robots-Tag:noindex
X-PUBLISHED-TTL:PT1H
BEGIN:VTIMEZONE
TZID:America/Boise
BEGIN:DAYLIGHT
TZOFFSETFROM:-0700
TZOFFSETTO:-0600
TZNAME:MDT
DTSTART:20220313T090000
END:DAYLIGHT
BEGIN:STANDARD
TZOFFSETFROM:-0600
TZOFFSETTO:-0700
TZNAME:MST
DTSTART:20221106T080000
END:STANDARD
BEGIN:DAYLIGHT
TZOFFSETFROM:-0700
TZOFFSETTO:-0600
TZNAME:MDT
DTSTART:20230312T090000
END:DAYLIGHT
BEGIN:STANDARD
TZOFFSETFROM:-0600
TZOFFSETTO:-0700
TZNAME:MST
DTSTART:20231105T080000
END:STANDARD
BEGIN:DAYLIGHT
TZOFFSETFROM:-0700
TZOFFSETTO:-0600
TZNAME:MDT
DTSTART:20240310T090000
END:DAYLIGHT
BEGIN:STANDARD
TZOFFSETFROM:-0600
TZOFFSETTO:-0700
TZNAME:MST
DTSTART:20241103T080000
END:STANDARD
END:VTIMEZONE
BEGIN:VEVENT
DTSTART;TZID=America/Boise:20231104T090000
DTEND;TZID=America/Boise:20231104T110000
DTSTAMP:20260424T030146
CREATED:20230921T172632Z
LAST-MODIFIED:20230921T172632Z
UID:3530-1699088400-1699095600@nwboise.org
SUMMARY:Rake Up Boise™ Kick-Off Event
DESCRIPTION:Rake Up Boise™ Team Captains! Head to NeighborWorks® Boise to pick up your leaf bags\, get some treats\, and get the RUB shirts that you order (get your shirts here). We promise we’ll try to pump you up and get you in the mood to rake some leaves!
URL:https://nwboise.org/event/rake-up-boise-kick-off-event/
LOCATION:TitleOne\, 5660 E Franklin Rd\, Nampa\, 83687\, United States
ATTACH;FMTTYPE=image/png:https://nwboise.org/wp-content/uploads/2023/08/RAKE-UP-BOISE.png
END:VEVENT
END:VCALENDAR