BEGIN:VCALENDAR
VERSION:2.0
PRODID:-//NeighborWorks Boise - ECPv6.15.20//NONSGML v1.0//EN
CALSCALE:GREGORIAN
METHOD:PUBLISH
X-WR-CALNAME:NeighborWorks Boise
X-ORIGINAL-URL:https://nwboise.org
X-WR-CALDESC:Events for NeighborWorks Boise
REFRESH-INTERVAL;VALUE=DURATION:PT1H
X-Robots-Tag:noindex
X-PUBLISHED-TTL:PT1H
BEGIN:VTIMEZONE
TZID:America/Boise
BEGIN:DAYLIGHT
TZOFFSETFROM:-0700
TZOFFSETTO:-0600
TZNAME:MDT
DTSTART:20230312T090000
END:DAYLIGHT
BEGIN:STANDARD
TZOFFSETFROM:-0600
TZOFFSETTO:-0700
TZNAME:MST
DTSTART:20231105T080000
END:STANDARD
BEGIN:DAYLIGHT
TZOFFSETFROM:-0700
TZOFFSETTO:-0600
TZNAME:MDT
DTSTART:20240310T090000
END:DAYLIGHT
BEGIN:STANDARD
TZOFFSETFROM:-0600
TZOFFSETTO:-0700
TZNAME:MST
DTSTART:20241103T080000
END:STANDARD
BEGIN:DAYLIGHT
TZOFFSETFROM:-0700
TZOFFSETTO:-0600
TZNAME:MDT
DTSTART:20250309T090000
END:DAYLIGHT
BEGIN:STANDARD
TZOFFSETFROM:-0600
TZOFFSETTO:-0700
TZNAME:MST
DTSTART:20251102T080000
END:STANDARD
END:VTIMEZONE
BEGIN:VEVENT
DTSTART;TZID=America/Boise:20240416T180000
DTEND;TZID=America/Boise:20240416T210000
DTSTAMP:20260423T044646
CREATED:20240223T230255Z
LAST-MODIFIED:20240223T230255Z
UID:3620-1713290400-1713301200@nwboise.org
SUMMARY:Homebuyer Education Class Session 1
DESCRIPTION:The Finally Home!™ course is ideal for homebuyers who will be purchasing within one year or are currently in escrow. Key information on budgeting\, credit lending\, real estate\, inspections\, insurance\, and down payment programs are presented. The monthly 6-hour course is currently being held in person (subject to change). \nRegister Here to reserve your spot.
URL:https://nwboise.org/event/homebuyer-education-class-session-1-13/
LOCATION:TitleOne\, 5660 E Franklin Rd\, Nampa\, 83687\, United States
CATEGORIES:Homebuyer Education Class
ATTACH;FMTTYPE=image/png:https://nwboise.org/wp-content/uploads/2022/07/HBE-website.png
END:VEVENT
BEGIN:VEVENT
DTSTART;TZID=America/Boise:20240417T180000
DTEND;TZID=America/Boise:20240417T210000
DTSTAMP:20260423T044646
CREATED:20240223T230418Z
LAST-MODIFIED:20240223T230418Z
UID:3621-1713376800-1713387600@nwboise.org
SUMMARY:Homebuyer Education Class Session 2
DESCRIPTION:The Finally Home!™ course is ideal for homebuyers who will be purchasing within one year or are currently in escrow. Key information on budgeting\, credit lending\, real estate\, inspections\, insurance\, and down payment programs are presented. The monthly 6-hour course is currently being held in person (subject to change). \nRegister Here to reserve your spot.
URL:https://nwboise.org/event/homebuyer-education-class-session-2-14/
LOCATION:TitleOne\, 5660 E Franklin Rd\, Nampa\, 83687\, United States
CATEGORIES:Homebuyer Education Class
ATTACH;FMTTYPE=image/png:https://nwboise.org/wp-content/uploads/2022/07/HBE-website.png
END:VEVENT
BEGIN:VEVENT
DTSTART;TZID=America/Boise:20240423T180000
DTEND;TZID=America/Boise:20240423T210000
DTSTAMP:20260423T044646
CREATED:20240312T174810Z
LAST-MODIFIED:20240312T174810Z
UID:3644-1713895200-1713906000@nwboise.org
SUMMARY:Homebuyer Education Class Session 1
DESCRIPTION:The Finally Home!™ course is ideal for homebuyers who will be purchasing within one year or are currently in escrow. Key information on budgeting\, credit lending\, real estate\, inspections\, insurance\, and down payment programs are presented. The monthly 6-hour course is currently being held in person (subject to change). \nRegister Here to reserve your spot.
URL:https://nwboise.org/event/homebuyer-education-class-session-1-14/
LOCATION:Stewart Title\, 16208 N High Desert St\, Nampa\, ID\, United States
CATEGORIES:Homebuyer Education Class
ATTACH;FMTTYPE=image/png:https://nwboise.org/wp-content/uploads/2022/07/HBE-website.png
END:VEVENT
BEGIN:VEVENT
DTSTART;TZID=America/Boise:20240424T180000
DTEND;TZID=America/Boise:20240424T210000
DTSTAMP:20260423T044646
CREATED:20240312T174914Z
LAST-MODIFIED:20240312T174914Z
UID:3645-1713981600-1713992400@nwboise.org
SUMMARY:Homebuyer Education Class Session 2
DESCRIPTION:The Finally Home!™ course is ideal for homebuyers who will be purchasing within one year or are currently in escrow. Key information on budgeting\, credit lending\, real estate\, inspections\, insurance\, and down payment programs are presented. The monthly 6-hour course is currently being held in person (subject to change). \nRegister Here to reserve your spot.
URL:https://nwboise.org/event/homebuyer-education-class-session-2-16/
LOCATION:Stewart Title\, 16208 N High Desert St\, Nampa\, ID\, United States
CATEGORIES:Homebuyer Education Class
ATTACH;FMTTYPE=image/png:https://nwboise.org/wp-content/uploads/2022/07/HBE-website.png
END:VEVENT
BEGIN:VEVENT
DTSTART;VALUE=DATE:20240429
DTEND;VALUE=DATE:20240503
DTSTAMP:20260423T044646
CREATED:20240425T155757Z
LAST-MODIFIED:20240425T155757Z
UID:3668-1714348800-1714694399@nwboise.org
SUMMARY:Idaho Gives
DESCRIPTION:Support NWB & Paint The Town™ this Idaho Gives. Our goal is to reach at least 42 donors in honor of our 42nd year. Join us as we continue this important community program. \nMore information here.
URL:https://nwboise.org/event/idaho-gives/
LOCATION:ID
END:VEVENT
END:VCALENDAR